BEGIN:VCALENDAR
BEGIN:VEVENT
SUMMARY:An afternoon of Chamber Pop\, Dark Folk\, & Noise: David E. Willia
 ms\, Scout Paré-Phillips\, NIMF\, Monkhammer [nycnoise]
DTSTART:20260419T180000Z
DTEND:20260419T190000Z
UID:87ac213f-1a94-4b03-a9d8-02d3e8c9e392
CREATED:20260425T110827Z
DESCRIPTION:flyer on insta
LOCATION:fringe records (656 Woodward Ave\, Ridgewood\, NY 11385)
END:VEVENT
END:VCALENDAR
