BEGIN:VCALENDAR
BEGIN:VEVENT
SUMMARY:Hypertrophy\, Woe Is Me\, Cementation Anxiety\, ErosLovesYou\, Fac
 cia Brutt\, Went Missing [nycnoise]
DTSTART:20260426T180000Z
DTEND:20260426T190000Z
UID:6a7df564-e76e-4080-b4a0-7680c27d0a0f
CREATED:20260425T091459Z
DESCRIPTION:1pm doors\; link's to ig\, should show on&nbsp\;fringe site as
 ap
LOCATION:fringe records (656 Woodward Ave\, Ridgewood\, NY 11385)
END:VEVENT
END:VCALENDAR
