BEGIN:VCALENDAR
BEGIN:VEVENT
SUMMARY:Both\, Binge\, Sewer Pill\, Sie Canela [nycnoise]
DTSTART:20260408T000000Z
DTEND:20260408T010000Z
UID:805a990e-c488-4b9b-bfd7-02aca27d15f8
CREATED:20260425T110741Z
DESCRIPTION:7:30pm doors
LOCATION:hart bar (538 hart st.\, brooklyn)
END:VEVENT
END:VCALENDAR
