BEGIN:VCALENDAR
BEGIN:VEVENT
SUMMARY:Dremel\, Zaawn\, Altimetry\, Kemit [nycnoise]
DTSTART:20260403T003000Z
DTEND:20260403T013000Z
UID:9d8befe5-cff8-4d21-b252-42166ca17c2f
CREATED:20260425T110628Z
DESCRIPTION:
LOCATION:footlight at windjammer (552 grandview ave\, ridgewood)
END:VEVENT
END:VCALENDAR
