BEGIN:VCALENDAR
BEGIN:VEVENT
SUMMARY:dance practice (a dancefloor meditation): T. Wan\, Laura Carella [
 nycnoise]
DTSTART:20260415T233000Z
DTEND:20260416T003000Z
UID:6af71940-8a2b-4e1d-889d-e0f6c08a6cba
CREATED:20260425T110616Z
DESCRIPTION:🌀 notaflof work trade\; "begins with a group instruction on
  mindful movement &amp\; body awareness"
LOCATION:light & sound design
END:VEVENT
END:VCALENDAR
