BEGIN:VCALENDAR
BEGIN:VEVENT
SUMMARY:Enzo will Present Sounds [nycnoise]
DTSTART:20260409T230000Z
DTEND:20260410T000000Z
UID:5ed813c6-e308-41d0-9f86-811fa77428ec
CREATED:20260425T110740Z
DESCRIPTION:🌀 notaflof work trade
LOCATION:light & sound design
END:VEVENT
END:VCALENDAR
