BEGIN:VCALENDAR
BEGIN:VEVENT
SUMMARY:Zoë Mowat will Present Sounds [nycnoise]
DTSTART:20260416T230000Z
DTEND:20260417T000000Z
UID:a9a8ef22-f6c4-4e1d-996c-57317e8fb461
CREATED:20260425T110658Z
DESCRIPTION:🌀 notaflof work trade
LOCATION:light & sound design
END:VEVENT
END:VCALENDAR
