BEGIN:VCALENDAR
BEGIN:VEVENT
SUMMARY:Sinking / Feeling: 8-Ball Radio Fundraiser: Ah Dek\, ALI IRL\, Har
 per\, mausam\, nataliepops\, Patsy\, RODAN\, SLID3 [nycnoise]
DTSTART:20260408T230000Z
DTEND:20260409T000000Z
UID:3706b02a-b25e-4b09-9561-6c9ab77200c0
CREATED:20260425T110816Z
DESCRIPTION:🌀 notaflof work trade\; raising funds for 8 ball (also PACB
 I!)
LOCATION:light & sound design
END:VEVENT
END:VCALENDAR
