BEGIN:VCALENDAR
BEGIN:VEVENT
SUMMARY:NO CØNTROL presents Signal Flow: The Common Language of Sound [ny
 cnoise]
DTSTART:20260422T230000Z
DTEND:20260423T000000Z
UID:445b7798-0371-4527-a4f1-dd49831350ef
CREATED:20260425T110816Z
DESCRIPTION:🌀 notaflof work trade\; demos &amp\; performance\, panel w/
  Alex Hofmann\, Jacob Skoglund\, Mac McCormack\, Michelle Kierencew\, Soo
LOCATION:light & sound design
END:VEVENT
END:VCALENDAR
