BEGIN:VCALENDAR
BEGIN:VEVENT
SUMMARY:Show Dog #1 [nycnoise]
DTSTART:20260423T233000Z
DTEND:20260424T003000Z
UID:6e8db7ea-015d-4dc7-9866-cf0ceb88a7da
CREATED:20260425T110815Z
DESCRIPTION:full info asap
LOCATION:record shop (360 van brunt st.\, brooklyn)
END:VEVENT
END:VCALENDAR
