BEGIN:VCALENDAR
BEGIN:VEVENT
SUMMARY:Bloom Sounds: Estelle Allen\, Toska\, No.ah\, Adventure Bear (Cal 
 Fish & Becca Rodriguez) [nycnoise]
DTSTART:20260403T000000Z
DTEND:20260403T010000Z
UID:2e38f26e-4f9e-4533-95d5-992d80517ede
CREATED:20260425T110918Z
DESCRIPTION:
LOCATION:purgatory (675 central ave\, brooklyn)
END:VEVENT
END:VCALENDAR
