BEGIN:VCALENDAR
BEGIN:VEVENT
SUMMARY:B|_ank\, Kill Alters (solo)\, Barbie AI\, Murderpact [nycnoise]
DTSTART:20260424T000000Z
DTEND:20260424T010000Z
UID:8e702edd-0c0a-4715-bc74-c613b840ef60
CREATED:20260425T110628Z
DESCRIPTION:
LOCATION:purgatory (675 central ave\, brooklyn)
END:VEVENT
END:VCALENDAR
