BEGIN:VCALENDAR
BEGIN:VEVENT
SUMMARY:Shadow Monster\, Debbie Dopamine\, Whirlybird\, Violet Stanza [nyc
 noise]
DTSTART:20260426T230000Z
DTEND:20260427T000000Z
UID:cc19eefb-8a1f-4622-b8ea-5272a7c67253
CREATED:20260425T091628Z
DESCRIPTION:7pm doors
LOCATION:purgatory (675 central ave\, brooklyn)
END:VEVENT
END:VCALENDAR
