BEGIN:VCALENDAR
BEGIN:VEVENT
SUMMARY:Asian Indie Artists of the Scene Unite!: Cat Crash + briar patch (
 Single Release)\, Lady Lychee\, First President of Japan\, Tiffy\, Raisara
  (DJ) [nycnoise]
DTSTART:20260502T160000Z
DTEND:20260502T170000Z
UID:0e1125b2-5fc5-4427-b65c-2333743cb2eb
CREATED:20260425T091746Z
DESCRIPTION:under 18 allowed with guardian
LOCATION:purgatory (675 central ave\, brooklyn)
END:VEVENT
END:VCALENDAR
