BEGIN:VCALENDAR
BEGIN:VEVENT
SUMMARY:Black Eyes\, LEYA\, Nu Jazz [nycnoise]
DTSTART:20260502T230000Z
DTEND:20260503T000000Z
UID:62c5f2b2-a0de-498a-9477-a7c5a87abeb9
CREATED:20260425T092005Z
DESCRIPTION:
LOCATION:trans-pecos (9-15 wyckoff ave\, ridgewood)
END:VEVENT
END:VCALENDAR
