BEGIN:VCALENDAR
BEGIN:VEVENT
SUMMARY:Sweet Baby Jesus\, Evil Sword\, Welwyn\, Baggie [nycnoise]
DTSTART:20260405T233000Z
DTEND:20260406T003000Z
UID:8ad66c24-9b5d-4fd1-b59c-3aaf4d45ed99
CREATED:20260425T110659Z
DESCRIPTION:7pm doors
LOCATION:tv eye (1647 Weirfield St\, Ridgewood\, NY 11385)
END:VEVENT
END:VCALENDAR
