BEGIN:VCALENDAR
BEGIN:VEVENT
SUMMARY:Container\, Expensive $hit\, Cube\, Pons (DJ) [nycnoise]
DTSTART:20260408T230000Z
DTEND:20260409T000000Z
UID:638f888c-0a5f-44a9-b5e3-907539a3b121
CREATED:20260425T111130Z
DESCRIPTION:7pm doors
LOCATION:tv eye (1647 Weirfield St\, Ridgewood\, NY 11385)
END:VEVENT
END:VCALENDAR
