BEGIN:VCALENDAR
BEGIN:VEVENT
SUMMARY:Dead Gods presents: Vanity Productions\, Keith Fullerton Whitman\,
  Imminent Death\, Jackson-Pratt\, DJ Broken Pillar [nycnoise]
DTSTART:20260410T230000Z
DTEND:20260411T000000Z
UID:83e87df1-28bd-4afd-b48f-c9c1207cd63b
CREATED:20260425T110628Z
DESCRIPTION:7pm doors
LOCATION:tv eye (1647 Weirfield St\, Ridgewood\, NY 11385)
END:VEVENT
END:VCALENDAR
