BEGIN:VCALENDAR
BEGIN:VEVENT
SUMMARY:Centennial Gardens\, Deli Girls\, Kill Alters\, Yaz Lancaster [nyc
 noise]
DTSTART:20260422T233000Z
DTEND:20260423T003000Z
UID:a13316b7-a94a-499b-96f4-6a9456a5660f
CREATED:20260425T110833Z
DESCRIPTION:7pm doors
LOCATION:tv eye (1647 Weirfield St\, Ridgewood\, NY 11385)
END:VEVENT
END:VCALENDAR
