BEGIN:VCALENDAR
BEGIN:VEVENT
SUMMARY:Satanic Planet\, The HIRS Collective\, Commitment\, Bailey Pope [n
 ycnoise]
DTSTART:20260430T233000Z
DTEND:20260501T003000Z
UID:f4df0906-f5a2-4fd3-9413-f64e071a7c72
CREATED:20260425T091601Z
DESCRIPTION:7pm doors
LOCATION:tv eye (1647 Weirfield St\, Ridgewood\, NY 11385)
END:VEVENT
END:VCALENDAR
