BEGIN:VCALENDAR
BEGIN:VEVENT
SUMMARY:Desert Daze presents: Evolfo\, Psymon Spine\, gushes\, DJ Joel Sto
 nes [nycnoise]
DTSTART:20260508T000000Z
DTEND:20260508T010000Z
UID:bf528b88-bb91-40ca-a78f-0cf7afd13348
CREATED:20260425T110657Z
DESCRIPTION:7pm doors
LOCATION:tv eye (1647 Weirfield St\, Ridgewood\, NY 11385)
END:VEVENT
END:VCALENDAR
