BEGIN:VCALENDAR
BEGIN:VEVENT
SUMMARY:American Seraphim\, Early Worm\, SNEAL [nycnoise]
DTSTART:20260402T000000Z
DTEND:20260402T010000Z
UID:a6643ede-ad22-4cd7-bcd9-5842e9a247a2
CREATED:20260425T110626Z
DESCRIPTION:
LOCATION:threes brewing (333 douglass st.\, brooklyn)
END:VEVENT
END:VCALENDAR
