BEGIN:VCALENDAR
BEGIN:VEVENT
SUMMARY:Synthicide: JDH\, Jumpr\, Andi [nycnoise]
DTSTART:20260403T020000Z
DTEND:20260403T030000Z
UID:541f9ae8-f048-4fa0-94c2-4795bfca0afc
CREATED:20260425T110659Z
DESCRIPTION:
LOCATION:bossa nova civic club (1271 myrtle ave\, brooklyn)
END:VEVENT
END:VCALENDAR
