BEGIN:VCALENDAR
BEGIN:VEVENT
SUMMARY:Body Journey: DIME\, Ianko FJ\, Total XTC [nycnoise]
DTSTART:20260405T020000Z
DTEND:20260405T030000Z
UID:3279a3c1-714b-4263-ba40-052c2daaf3ad
CREATED:20260425T110832Z
DESCRIPTION:
LOCATION:bossa nova civic club (1271 myrtle ave\, brooklyn)
END:VEVENT
END:VCALENDAR
