BEGIN:VCALENDAR
BEGIN:VEVENT
SUMMARY:Shyboi B2B Via App\, HeavensG8\, Honey Dip [nycnoise]
DTSTART:20260406T020000Z
DTEND:20260406T030000Z
UID:9d9e66ca-f2f8-4dba-ae84-9fe4b96c540c
CREATED:20260425T110815Z
DESCRIPTION:
LOCATION:bossa nova civic club (1271 myrtle ave\, brooklyn)
END:VEVENT
END:VCALENDAR
