BEGIN:VCALENDAR
BEGIN:VEVENT
SUMMARY:Nymphomania: Phonozar\, Nymph\, Megan Rosengarten\, SSG_ [nycnoise
 ]
DTSTART:20260407T020000Z
DTEND:20260407T030000Z
UID:917a4321-a0a4-42d7-a128-a3ab3653721c
CREATED:20260425T110740Z
DESCRIPTION:
LOCATION:bossa nova civic club (1271 myrtle ave\, brooklyn)
END:VEVENT
END:VCALENDAR
