BEGIN:VCALENDAR
BEGIN:VEVENT
SUMMARY:Donna Allen Trio\, Cal Fish\, Andy Boay\, DJ Edwin White [nycnoise
 ]
DTSTART:20260410T000000Z
DTEND:20260410T010000Z
UID:a4decf3e-0f38-4bc2-a738-d70415a01856
CREATED:20260425T110832Z
DESCRIPTION:7pm doors
LOCATION:francis kite club (40 loisaida ave\, manhattan)
END:VEVENT
END:VCALENDAR
