BEGIN:VCALENDAR
BEGIN:VEVENT
SUMMARY:Stereo Mandrax: Logan Takahashi\, Time Trout\, Erica Mancini [nycn
 oise]
DTSTART:20260412T230000Z
DTEND:20260413T000000Z
UID:6228a776-eeb4-4f73-8b0d-6c409c8275ba
CREATED:20260425T110832Z
DESCRIPTION:free w/ rsvp
LOCATION:pianos (158 Ludlow St\, New York\, NY 10002)
END:VEVENT
END:VCALENDAR
