BEGIN:VCALENDAR
BEGIN:VEVENT
SUMMARY:the 718 presents: Elysse\, ignabu\, tan’DBleu [nycnoise]
DTSTART:20260418T220000Z
DTEND:20260418T230000Z
UID:8c7e740f-9388-46ea-97ec-459dee28d603
CREATED:20260425T110739Z
DESCRIPTION:DJs rmzi\, beliansh\, YeYelle + pole &amp\; more
LOCATION:718 ink (1428 Pitkin Ave\, Brooklyn\, NY 11233)
END:VEVENT
END:VCALENDAR
