BEGIN:VCALENDAR
BEGIN:VEVENT
SUMMARY:Organ Sound Bath for ICE OUT NYC: Allison Jones / JRØNES [nycnois
 e]
DTSTART:20260420T000000Z
DTEND:20260420T010000Z
UID:c8ed7aca-d2b4-41ae-a988-e61b0a29177e
CREATED:20260425T110618Z
DESCRIPTION:7pm doors\, "no late entry"\; "ambient / drone meditation" by 
 Allison Jones\, "bring a blanket or yoga mat"\; benefits Immigrant Defense
  Project
LOCATION:stone circle at ridgewood presby (59-14 70th ave\, ridgewood)
END:VEVENT
END:VCALENDAR
