BEGIN:VCALENDAR
BEGIN:VEVENT
SUMMARY:Open Drone/Improv: Zachary Mezzo String Ensemble [nycnoise]
DTSTART:20260412T230000Z
DTEND:20260413T000000Z
UID:8273d793-4d7d-44b0-a4ec-b60117b67e6e
CREATED:20260425T110832Z
DESCRIPTION:"open invite for any [who play] violin\, viola\, cello\, bass"
 \; release for ZM album on bandcamp
LOCATION:stone circle at ridgewood presby (59-14 70th ave\, ridgewood)
END:VEVENT
END:VCALENDAR
