BEGIN:VCALENDAR
BEGIN:VEVENT
SUMMARY:Carmenesperanza\, Untitled Freak\, Kid Lake [nycnoise]
DTSTART:20260430T230000Z
DTEND:20260501T000000Z
UID:b8980a3f-6a27-4c69-ba51-d772c624c6fc
CREATED:20260425T091601Z
DESCRIPTION:
LOCATION:sleepwalk (251 bushwick ave\, brooklyn)
END:VEVENT
END:VCALENDAR
