BEGIN:VCALENDAR
BEGIN:VEVENT
SUMMARY:a place both wonderful and strange (Album Release)\, Bunny X\, Win
 kie\, DJ Sarah Lyons [nycnoise]
DTSTART:20260501T230000Z
DTEND:20260502T000000Z
UID:06d0ecbc-b0a1-4ae1-a5a8-73b7f9dc5a42
CREATED:20260425T091602Z
DESCRIPTION:apbw&amp\;s album matter and desire&nbsp\;on bandcamp
LOCATION:sleepwalk (251 bushwick ave\, brooklyn)
END:VEVENT
END:VCALENDAR
