BEGIN:VCALENDAR
BEGIN:VEVENT
SUMMARY:Behaviorist\, Chase Elodia [nycnoise]
DTSTART:20260516T230000Z
DTEND:20260517T000000Z
UID:ce5f4869-db76-4217-b90d-3fecc40112e3
CREATED:20260425T110956Z
DESCRIPTION:
LOCATION:sleepwalk (251 bushwick ave\, brooklyn)
END:VEVENT
END:VCALENDAR
