BEGIN:VCALENDAR
BEGIN:VEVENT
SUMMARY:Soup & Sound presents: Michael Sarin & MP Landis (live painting)\,
  Ayako Kanda & Elliott Sharpe [nycnoise]
DTSTART:20260510T000000Z
DTEND:20260510T010000Z
UID:eb673655-0da0-4cb8-839c-1f8c1706adba
CREATED:20260425T092032Z
DESCRIPTION:ticket link asap
LOCATION:loove annex (238 N 12th St\, Brooklyn\, NY 11211)
END:VEVENT
END:VCALENDAR
