BEGIN:VCALENDAR
BEGIN:VEVENT
SUMMARY:Soup & Sound presents: Kolhase Group with Warren Smith [nycnoise]
DTSTART:20260530T000000Z
DTEND:20260530T010000Z
UID:ecb23367-83cd-460f-8ac0-7a8017cd4e9d
CREATED:20260425T110628Z
DESCRIPTION:Charlie Kolhase\, Seth Meicht\, Bill Lowe\, Joe Fonda\, WS
LOCATION:soup & sound (292 lefferts ave\, brooklyn)
END:VEVENT
END:VCALENDAR
