BEGIN:VCALENDAR
BEGIN:VEVENT
SUMMARY:Soup & Sound presents: Katie Bull (CD Release) [nycnoise]
DTSTART:20260531T000000Z
DTEND:20260531T010000Z
UID:a1d67d32-9203-48aa-87a8-7902e14fc487
CREATED:20260425T110832Z
DESCRIPTION:w/ Mara Rosenbloom\, Joe Fonda\, Jeff Lederer\, George Schulle
 r\;&nbsp\;ticket link asap
LOCATION:loove annex (238 N 12th St\, Brooklyn\, NY 11211)
END:VEVENT
END:VCALENDAR
