BEGIN:VCALENDAR
BEGIN:VEVENT
SUMMARY:McCabe Teems\, Big Blue\, The Beak Trio\, Christian Michael Filard
 o [nycnoise]
DTSTART:20260418T230000Z
DTEND:20260419T000000Z
UID:db75683a-7c6b-492a-a60c-99f62dd070f1
CREATED:20260425T110658Z
DESCRIPTION:6pm doors\; TB3: Will Bollinger\, Kevin Eichenberger\, James G
 ibian
LOCATION:future space (584 Woodward Ave\, Ridgewood\, NY 11385)
END:VEVENT
END:VCALENDAR
