BEGIN:VCALENDAR
BEGIN:VEVENT
SUMMARY:Brook Hsu watches Eiko Otake dance [nycnoise]
DTSTART:20260420T230000Z
DTEND:20260421T000000Z
UID:66bbd26b-d042-4272-88f6-8c1f346ae895
CREATED:20260425T110814Z
DESCRIPTION:6:30pm doors\; "spots are limited ... audience asked to stand 
 as Eiko moves through the space. Seating is available upon request."
LOCATION:giorno poetry systems (222 bowery\, manhattan)
END:VEVENT
END:VCALENDAR
