BEGIN:VCALENDAR
BEGIN:VEVENT
SUMMARY:NYXO & FOOD present Nightshift [nycnoise]
DTSTART:20260410T030000Z
DTEND:20260410T040000Z
UID:4dd2ab1b-73fe-4234-a8a7-4b305802ff4d
CREATED:20260425T110919Z
DESCRIPTION:"music &amp\; pizza every thursday night\," rotating cast
LOCATION:food (89B Canal St\, New York\, NY 10002)
END:VEVENT
END:VCALENDAR
