BEGIN:VCALENDAR
BEGIN:VEVENT
SUMMARY:NYXO & FOOD present Nightshift [nycnoise]
DTSTART:20260424T030000Z
DTEND:20260424T040000Z
UID:0b941c4c-8f96-4822-8c56-8dc32817604a
CREATED:20260425T110827Z
DESCRIPTION:"music &amp\; pizza every thursday night\," rotating cast
LOCATION:food (89B Canal St\, New York\, NY 10002)
END:VEVENT
END:VCALENDAR
