BEGIN:VCALENDAR
BEGIN:VEVENT
SUMMARY:NYXO & FOOD present Nightshift [nycnoise]
DTSTART:20260508T030000Z
DTEND:20260508T040000Z
UID:7d603c88-523b-4336-85d4-8fbaf8d6f769
CREATED:20260425T091842Z
DESCRIPTION:"music &amp\; pizza every thursday night\," rotating cast
LOCATION:food (89B Canal St\, New York\, NY 10002)
END:VEVENT
END:VCALENDAR
