BEGIN:VCALENDAR
BEGIN:VEVENT
SUMMARY:320\, Eden Aurelius\, mu tate\, NEXCYIA [nycnoise]
DTSTART:20260421T230000Z
DTEND:20260422T000000Z
UID:f4c7a15e-0393-426e-8517-2a417900eeaf
CREATED:20260425T110530Z
DESCRIPTION:🌀 notaflof work trade
LOCATION:light & sound design
END:VEVENT
END:VCALENDAR
