BEGIN:VCALENDAR
BEGIN:VEVENT
SUMMARY:Movement Research: Andrea B. Tupac Yupanqui\, Coco Villa\, Constan
 ce Jaquay\, Edu Tair Hernández / Dead Can Dance [nycnoise]
DTSTART:20260504T230000Z
DTEND:20260505T000000Z
UID:f7ff85aa-c53f-4ccb-8331-0f801a78d046
CREATED:20260425T110814Z
DESCRIPTION:"event includes auditive guidance"
LOCATION:movement research at judson (55 washington sq south\, manhattan)
END:VEVENT
END:VCALENDAR
