BEGIN:VCALENDAR
BEGIN:VEVENT
SUMMARY:Movement Research: ill/egible\, Nicole Bindler\, Ryuta Iwashita 
 岩下龍太\, Stephanie Hewett [nycnoise]
DTSTART:20260427T230000Z
DTEND:20260428T000000Z
UID:41b7202b-c1cd-49b1-902c-903bb38a7dca
CREATED:20260425T091745Z
DESCRIPTION:"event includes auditive guidance"
LOCATION:movement research at judson (55 washington sq south\, manhattan)
END:VEVENT
END:VCALENDAR
