BEGIN:VCALENDAR
BEGIN:VEVENT
SUMMARY:Music of Now Fest [nycnoise]
DTSTART:20260409T000000Z
DTEND:20260409T010000Z
UID:5b3075cf-8e91-451a-a29f-c5b859576c6c
CREATED:20260425T110945Z
DESCRIPTION:8pm David Phelps w/ Marcus Rojas &amp\; Satoshi Takeshita\; 9:
 30pm Ari Hoenig w/ Gilad Hekselman &amp\; Gadi Lehavi\; 11pm Russel Hall's
  Bessie &amp\; The Rainbowkids
LOCATION:nublu 151 (151 ave c\, manhattan)
END:VEVENT
END:VCALENDAR
