BEGIN:VCALENDAR
BEGIN:VEVENT
SUMMARY:Music of Now Fest [nycnoise]
DTSTART:20260410T000000Z
DTEND:20260410T010000Z
UID:0092ccfd-3d39-484f-bf5a-34a819ce83d0
CREATED:20260425T110529Z
DESCRIPTION:8pm Marieme\; 9:30pm La Lulu &amp\; Cumpleanos\; 11pm Jason Li
 ndner Moment Machine feat. Currency Audio\, Domenica\, Key Hutch\, Jonatha
 n Maron\, Daniela Serna\; 12:30am Blood Brothers: Abraham Burton\, Marvin 
 Sewell\, Deron Douglas\, Nasheet Waits
LOCATION:nublu 151 (151 ave c\, manhattan)
END:VEVENT
END:VCALENDAR
