BEGIN:VCALENDAR
BEGIN:VEVENT
SUMMARY:Music of Now Fest [nycnoise]
DTSTART:20260416T000000Z
DTEND:20260416T010000Z
UID:b9e187dc-64e8-46ce-9fc6-50f7c0989da2
CREATED:20260425T110919Z
DESCRIPTION:8pm Daniel Carter\, Ayumi Ishito\, Dylan DelGiudice\, Diego He
 dez\, Trae Crudup\; 9:30pm Hearing Things: Matt Bauder\, JP Schlegelmilch\
 , Vinnie Sperrazza\; 11pm BIGYUKI\, Randy Runyon\, Jharis Yokley // $45 fu
 ll night\, $23/set via&nbsp\;nublu
LOCATION:nublu 151 (151 ave c\, manhattan)
END:VEVENT
END:VCALENDAR
