BEGIN:VCALENDAR
BEGIN:VEVENT
SUMMARY:James Wengrow Crypsis Trio\, Olli Hirvonen Trio\, Sally Gates [nyc
 noise]
DTSTART:20260514T230000Z
DTEND:20260515T000000Z
UID:df12e200-9a89-4279-8fbe-728145f2e8da
CREATED:20260425T110956Z
DESCRIPTION:JWC3 w/ Mathias Jensen\, James Paul Nadien\; OH3 w/ Marty Kenn
 ey &amp\; Kevin Shea
LOCATION:nublu classic (62 Loisaida Ave\, New York\, NY 10009)
END:VEVENT
END:VCALENDAR
