BEGIN:VCALENDAR
BEGIN:VEVENT
SUMMARY:Second Sundays [nycnoise]
DTSTART:20260412T160000Z
DTEND:20260412T170000Z
UID:265068f5-0a8a-4bb1-9417-002ad0d2d3b8
CREATED:20260425T110918Z
DESCRIPTION:WHOOP DEE DOO live film variety show\, DJ2TONE\, &amp\; more
LOCATION:pioneer works (full space) (159 pioneer st.\, brooklyn)
END:VEVENT
END:VCALENDAR
